BEGIN:VCALENDAR
VERSION:2.0
PRODID:-//Les Delices de Malfrait - ECPv6.14.0//NONSGML v1.0//EN
CALSCALE:GREGORIAN
METHOD:PUBLISH
X-WR-CALNAME:Les Delices de Malfrait
X-ORIGINAL-URL:https://les-delices-de-malfrait.fr
X-WR-CALDESC:Évènements pour Les Delices de Malfrait
REFRESH-INTERVAL;VALUE=DURATION:PT1H
X-Robots-Tag:noindex
X-PUBLISHED-TTL:PT1H
BEGIN:VTIMEZONE
TZID:Europe/Paris
BEGIN:DAYLIGHT
TZOFFSETFROM:+0100
TZOFFSETTO:+0200
TZNAME:CEST
DTSTART:20250330T010000
END:DAYLIGHT
BEGIN:STANDARD
TZOFFSETFROM:+0200
TZOFFSETTO:+0100
TZNAME:CET
DTSTART:20251026T010000
END:STANDARD
BEGIN:DAYLIGHT
TZOFFSETFROM:+0100
TZOFFSETTO:+0200
TZNAME:CEST
DTSTART:20260329T010000
END:DAYLIGHT
BEGIN:STANDARD
TZOFFSETFROM:+0200
TZOFFSETTO:+0100
TZNAME:CET
DTSTART:20261025T010000
END:STANDARD
END:VTIMEZONE
BEGIN:VEVENT
DTSTART;TZID=Europe/Paris:20260310T070000
DTEND;TZID=Europe/Paris:20260310T120000
DTSTAMP:20260421T151435
CREATED:20220928T155748Z
LAST-MODIFIED:20220928T155810Z
UID:10001741-1773126000-1773144000@les-delices-de-malfrait.fr
SUMMARY:La Mulatière (mardi)
DESCRIPTION:Rencontrons-nous\, tous les mercredis et les vendredis matins\, sur le marché de La Mulatière.
URL:https://les-delices-de-malfrait.fr/event/marche-de-la-mulatiere-2/2026-03-10
LOCATION:Marché de La Mulatière\, Place de la Mairie\, La Mulatière\, 69350
CATEGORIES:Marché
ATTACH;FMTTYPE=image/jpeg:https://les-delices-de-malfrait.fr/wp-content/uploads/2022/09/marche-les-Delices-de-Malfrait-2.jpg
END:VEVENT
BEGIN:VEVENT
DTSTART;TZID=Europe/Paris:20260306T070000
DTEND;TZID=Europe/Paris:20260306T120000
DTSTAMP:20260421T151435
CREATED:20220914T101424Z
LAST-MODIFIED:20220915T164311Z
UID:10001225-1772780400-1772798400@les-delices-de-malfrait.fr
SUMMARY:La Mulatière (vendredi)
DESCRIPTION:Venez nous rencontrer\, tous les mercredis matins et vendredis matins\, sur le marché de La Mulatière.
URL:https://les-delices-de-malfrait.fr/event/la-mulatiere-vendredi/2026-03-06
LOCATION:Marché de La Mulatière\, Place de la Mairie\, La Mulatière\, 69350
CATEGORIES:Marché
ATTACH;FMTTYPE=image/jpeg:https://les-delices-de-malfrait.fr/wp-content/uploads/2022/09/marche-les-Delices-de-Malfrait-2.jpg
END:VEVENT
BEGIN:VEVENT
DTSTART;TZID=Europe/Paris:20260303T070000
DTEND;TZID=Europe/Paris:20260303T120000
DTSTAMP:20260421T151435
CREATED:20220928T155748Z
LAST-MODIFIED:20220928T155810Z
UID:10001740-1772521200-1772539200@les-delices-de-malfrait.fr
SUMMARY:La Mulatière (mardi)
DESCRIPTION:Rencontrons-nous\, tous les mercredis et les vendredis matins\, sur le marché de La Mulatière.
URL:https://les-delices-de-malfrait.fr/event/marche-de-la-mulatiere-2/2026-03-03
LOCATION:Marché de La Mulatière\, Place de la Mairie\, La Mulatière\, 69350
CATEGORIES:Marché
ATTACH;FMTTYPE=image/jpeg:https://les-delices-de-malfrait.fr/wp-content/uploads/2022/09/marche-les-Delices-de-Malfrait-2.jpg
END:VEVENT
BEGIN:VEVENT
DTSTART;TZID=Europe/Paris:20260227T070000
DTEND;TZID=Europe/Paris:20260227T120000
DTSTAMP:20260421T151435
CREATED:20220914T101424Z
LAST-MODIFIED:20220915T164311Z
UID:10001224-1772175600-1772193600@les-delices-de-malfrait.fr
SUMMARY:La Mulatière (vendredi)
DESCRIPTION:Venez nous rencontrer\, tous les mercredis matins et vendredis matins\, sur le marché de La Mulatière.
URL:https://les-delices-de-malfrait.fr/event/la-mulatiere-vendredi/2026-02-27
LOCATION:Marché de La Mulatière\, Place de la Mairie\, La Mulatière\, 69350
CATEGORIES:Marché
ATTACH;FMTTYPE=image/jpeg:https://les-delices-de-malfrait.fr/wp-content/uploads/2022/09/marche-les-Delices-de-Malfrait-2.jpg
END:VEVENT
BEGIN:VEVENT
DTSTART;TZID=Europe/Paris:20260224T070000
DTEND;TZID=Europe/Paris:20260224T120000
DTSTAMP:20260421T151435
CREATED:20220928T155748Z
LAST-MODIFIED:20220928T155810Z
UID:10001739-1771916400-1771934400@les-delices-de-malfrait.fr
SUMMARY:La Mulatière (mardi)
DESCRIPTION:Rencontrons-nous\, tous les mercredis et les vendredis matins\, sur le marché de La Mulatière.
URL:https://les-delices-de-malfrait.fr/event/marche-de-la-mulatiere-2/2026-02-24
LOCATION:Marché de La Mulatière\, Place de la Mairie\, La Mulatière\, 69350
CATEGORIES:Marché
ATTACH;FMTTYPE=image/jpeg:https://les-delices-de-malfrait.fr/wp-content/uploads/2022/09/marche-les-Delices-de-Malfrait-2.jpg
END:VEVENT
BEGIN:VEVENT
DTSTART;TZID=Europe/Paris:20260220T070000
DTEND;TZID=Europe/Paris:20260220T120000
DTSTAMP:20260421T151435
CREATED:20220914T101424Z
LAST-MODIFIED:20220915T164311Z
UID:10001223-1771570800-1771588800@les-delices-de-malfrait.fr
SUMMARY:La Mulatière (vendredi)
DESCRIPTION:Venez nous rencontrer\, tous les mercredis matins et vendredis matins\, sur le marché de La Mulatière.
URL:https://les-delices-de-malfrait.fr/event/la-mulatiere-vendredi/2026-02-20
LOCATION:Marché de La Mulatière\, Place de la Mairie\, La Mulatière\, 69350
CATEGORIES:Marché
ATTACH;FMTTYPE=image/jpeg:https://les-delices-de-malfrait.fr/wp-content/uploads/2022/09/marche-les-Delices-de-Malfrait-2.jpg
END:VEVENT
BEGIN:VEVENT
DTSTART;TZID=Europe/Paris:20260217T070000
DTEND;TZID=Europe/Paris:20260217T120000
DTSTAMP:20260421T151435
CREATED:20220928T155748Z
LAST-MODIFIED:20220928T155810Z
UID:10001738-1771311600-1771329600@les-delices-de-malfrait.fr
SUMMARY:La Mulatière (mardi)
DESCRIPTION:Rencontrons-nous\, tous les mercredis et les vendredis matins\, sur le marché de La Mulatière.
URL:https://les-delices-de-malfrait.fr/event/marche-de-la-mulatiere-2/2026-02-17
LOCATION:Marché de La Mulatière\, Place de la Mairie\, La Mulatière\, 69350
CATEGORIES:Marché
ATTACH;FMTTYPE=image/jpeg:https://les-delices-de-malfrait.fr/wp-content/uploads/2022/09/marche-les-Delices-de-Malfrait-2.jpg
END:VEVENT
BEGIN:VEVENT
DTSTART;TZID=Europe/Paris:20260213T070000
DTEND;TZID=Europe/Paris:20260213T120000
DTSTAMP:20260421T151435
CREATED:20220914T101424Z
LAST-MODIFIED:20220915T164311Z
UID:10001222-1770966000-1770984000@les-delices-de-malfrait.fr
SUMMARY:La Mulatière (vendredi)
DESCRIPTION:Venez nous rencontrer\, tous les mercredis matins et vendredis matins\, sur le marché de La Mulatière.
URL:https://les-delices-de-malfrait.fr/event/la-mulatiere-vendredi/2026-02-13
LOCATION:Marché de La Mulatière\, Place de la Mairie\, La Mulatière\, 69350
CATEGORIES:Marché
ATTACH;FMTTYPE=image/jpeg:https://les-delices-de-malfrait.fr/wp-content/uploads/2022/09/marche-les-Delices-de-Malfrait-2.jpg
END:VEVENT
BEGIN:VEVENT
DTSTART;TZID=Europe/Paris:20260210T070000
DTEND;TZID=Europe/Paris:20260210T120000
DTSTAMP:20260421T151435
CREATED:20220928T155748Z
LAST-MODIFIED:20220928T155810Z
UID:10001737-1770706800-1770724800@les-delices-de-malfrait.fr
SUMMARY:La Mulatière (mardi)
DESCRIPTION:Rencontrons-nous\, tous les mercredis et les vendredis matins\, sur le marché de La Mulatière.
URL:https://les-delices-de-malfrait.fr/event/marche-de-la-mulatiere-2/2026-02-10
LOCATION:Marché de La Mulatière\, Place de la Mairie\, La Mulatière\, 69350
CATEGORIES:Marché
ATTACH;FMTTYPE=image/jpeg:https://les-delices-de-malfrait.fr/wp-content/uploads/2022/09/marche-les-Delices-de-Malfrait-2.jpg
END:VEVENT
BEGIN:VEVENT
DTSTART;TZID=Europe/Paris:20260206T070000
DTEND;TZID=Europe/Paris:20260206T120000
DTSTAMP:20260421T151435
CREATED:20220914T101424Z
LAST-MODIFIED:20220915T164311Z
UID:10001221-1770361200-1770379200@les-delices-de-malfrait.fr
SUMMARY:La Mulatière (vendredi)
DESCRIPTION:Venez nous rencontrer\, tous les mercredis matins et vendredis matins\, sur le marché de La Mulatière.
URL:https://les-delices-de-malfrait.fr/event/la-mulatiere-vendredi/2026-02-06
LOCATION:Marché de La Mulatière\, Place de la Mairie\, La Mulatière\, 69350
CATEGORIES:Marché
ATTACH;FMTTYPE=image/jpeg:https://les-delices-de-malfrait.fr/wp-content/uploads/2022/09/marche-les-Delices-de-Malfrait-2.jpg
END:VEVENT
BEGIN:VEVENT
DTSTART;TZID=Europe/Paris:20260203T070000
DTEND;TZID=Europe/Paris:20260203T120000
DTSTAMP:20260421T151435
CREATED:20220928T155748Z
LAST-MODIFIED:20220928T155810Z
UID:10001736-1770102000-1770120000@les-delices-de-malfrait.fr
SUMMARY:La Mulatière (mardi)
DESCRIPTION:Rencontrons-nous\, tous les mercredis et les vendredis matins\, sur le marché de La Mulatière.
URL:https://les-delices-de-malfrait.fr/event/marche-de-la-mulatiere-2/2026-02-03
LOCATION:Marché de La Mulatière\, Place de la Mairie\, La Mulatière\, 69350
CATEGORIES:Marché
ATTACH;FMTTYPE=image/jpeg:https://les-delices-de-malfrait.fr/wp-content/uploads/2022/09/marche-les-Delices-de-Malfrait-2.jpg
END:VEVENT
BEGIN:VEVENT
DTSTART;TZID=Europe/Paris:20260130T070000
DTEND;TZID=Europe/Paris:20260130T120000
DTSTAMP:20260421T151435
CREATED:20220914T101424Z
LAST-MODIFIED:20220915T164311Z
UID:10001220-1769756400-1769774400@les-delices-de-malfrait.fr
SUMMARY:La Mulatière (vendredi)
DESCRIPTION:Venez nous rencontrer\, tous les mercredis matins et vendredis matins\, sur le marché de La Mulatière.
URL:https://les-delices-de-malfrait.fr/event/la-mulatiere-vendredi/2026-01-30
LOCATION:Marché de La Mulatière\, Place de la Mairie\, La Mulatière\, 69350
CATEGORIES:Marché
ATTACH;FMTTYPE=image/jpeg:https://les-delices-de-malfrait.fr/wp-content/uploads/2022/09/marche-les-Delices-de-Malfrait-2.jpg
END:VEVENT
BEGIN:VEVENT
DTSTART;TZID=Europe/Paris:20260127T070000
DTEND;TZID=Europe/Paris:20260127T120000
DTSTAMP:20260421T151435
CREATED:20220928T155748Z
LAST-MODIFIED:20220928T155810Z
UID:10001735-1769497200-1769515200@les-delices-de-malfrait.fr
SUMMARY:La Mulatière (mardi)
DESCRIPTION:Rencontrons-nous\, tous les mercredis et les vendredis matins\, sur le marché de La Mulatière.
URL:https://les-delices-de-malfrait.fr/event/marche-de-la-mulatiere-2/2026-01-27
LOCATION:Marché de La Mulatière\, Place de la Mairie\, La Mulatière\, 69350
CATEGORIES:Marché
ATTACH;FMTTYPE=image/jpeg:https://les-delices-de-malfrait.fr/wp-content/uploads/2022/09/marche-les-Delices-de-Malfrait-2.jpg
END:VEVENT
BEGIN:VEVENT
DTSTART;TZID=Europe/Paris:20260123T070000
DTEND;TZID=Europe/Paris:20260123T120000
DTSTAMP:20260421T151435
CREATED:20220914T101424Z
LAST-MODIFIED:20220915T164311Z
UID:10001219-1769151600-1769169600@les-delices-de-malfrait.fr
SUMMARY:La Mulatière (vendredi)
DESCRIPTION:Venez nous rencontrer\, tous les mercredis matins et vendredis matins\, sur le marché de La Mulatière.
URL:https://les-delices-de-malfrait.fr/event/la-mulatiere-vendredi/2026-01-23
LOCATION:Marché de La Mulatière\, Place de la Mairie\, La Mulatière\, 69350
CATEGORIES:Marché
ATTACH;FMTTYPE=image/jpeg:https://les-delices-de-malfrait.fr/wp-content/uploads/2022/09/marche-les-Delices-de-Malfrait-2.jpg
END:VEVENT
BEGIN:VEVENT
DTSTART;TZID=Europe/Paris:20260120T070000
DTEND;TZID=Europe/Paris:20260120T120000
DTSTAMP:20260421T151435
CREATED:20220928T155748Z
LAST-MODIFIED:20220928T155810Z
UID:10001734-1768892400-1768910400@les-delices-de-malfrait.fr
SUMMARY:La Mulatière (mardi)
DESCRIPTION:Rencontrons-nous\, tous les mercredis et les vendredis matins\, sur le marché de La Mulatière.
URL:https://les-delices-de-malfrait.fr/event/marche-de-la-mulatiere-2/2026-01-20
LOCATION:Marché de La Mulatière\, Place de la Mairie\, La Mulatière\, 69350
CATEGORIES:Marché
ATTACH;FMTTYPE=image/jpeg:https://les-delices-de-malfrait.fr/wp-content/uploads/2022/09/marche-les-Delices-de-Malfrait-2.jpg
END:VEVENT
BEGIN:VEVENT
DTSTART;TZID=Europe/Paris:20260116T070000
DTEND;TZID=Europe/Paris:20260116T120000
DTSTAMP:20260421T151435
CREATED:20220914T101424Z
LAST-MODIFIED:20220915T164311Z
UID:10001218-1768546800-1768564800@les-delices-de-malfrait.fr
SUMMARY:La Mulatière (vendredi)
DESCRIPTION:Venez nous rencontrer\, tous les mercredis matins et vendredis matins\, sur le marché de La Mulatière.
URL:https://les-delices-de-malfrait.fr/event/la-mulatiere-vendredi/2026-01-16
LOCATION:Marché de La Mulatière\, Place de la Mairie\, La Mulatière\, 69350
CATEGORIES:Marché
ATTACH;FMTTYPE=image/jpeg:https://les-delices-de-malfrait.fr/wp-content/uploads/2022/09/marche-les-Delices-de-Malfrait-2.jpg
END:VEVENT
BEGIN:VEVENT
DTSTART;TZID=Europe/Paris:20260113T070000
DTEND;TZID=Europe/Paris:20260113T120000
DTSTAMP:20260421T151435
CREATED:20220928T155748Z
LAST-MODIFIED:20220928T155810Z
UID:10001733-1768287600-1768305600@les-delices-de-malfrait.fr
SUMMARY:La Mulatière (mardi)
DESCRIPTION:Rencontrons-nous\, tous les mercredis et les vendredis matins\, sur le marché de La Mulatière.
URL:https://les-delices-de-malfrait.fr/event/marche-de-la-mulatiere-2/2026-01-13
LOCATION:Marché de La Mulatière\, Place de la Mairie\, La Mulatière\, 69350
CATEGORIES:Marché
ATTACH;FMTTYPE=image/jpeg:https://les-delices-de-malfrait.fr/wp-content/uploads/2022/09/marche-les-Delices-de-Malfrait-2.jpg
END:VEVENT
BEGIN:VEVENT
DTSTART;TZID=Europe/Paris:20260109T070000
DTEND;TZID=Europe/Paris:20260109T120000
DTSTAMP:20260421T151435
CREATED:20220914T101424Z
LAST-MODIFIED:20220915T164311Z
UID:10001217-1767942000-1767960000@les-delices-de-malfrait.fr
SUMMARY:La Mulatière (vendredi)
DESCRIPTION:Venez nous rencontrer\, tous les mercredis matins et vendredis matins\, sur le marché de La Mulatière.
URL:https://les-delices-de-malfrait.fr/event/la-mulatiere-vendredi/2026-01-09
LOCATION:Marché de La Mulatière\, Place de la Mairie\, La Mulatière\, 69350
CATEGORIES:Marché
ATTACH;FMTTYPE=image/jpeg:https://les-delices-de-malfrait.fr/wp-content/uploads/2022/09/marche-les-Delices-de-Malfrait-2.jpg
END:VEVENT
BEGIN:VEVENT
DTSTART;TZID=Europe/Paris:20260106T070000
DTEND;TZID=Europe/Paris:20260106T120000
DTSTAMP:20260421T151435
CREATED:20220928T155748Z
LAST-MODIFIED:20220928T155810Z
UID:10001732-1767682800-1767700800@les-delices-de-malfrait.fr
SUMMARY:La Mulatière (mardi)
DESCRIPTION:Rencontrons-nous\, tous les mercredis et les vendredis matins\, sur le marché de La Mulatière.
URL:https://les-delices-de-malfrait.fr/event/marche-de-la-mulatiere-2/2026-01-06
LOCATION:Marché de La Mulatière\, Place de la Mairie\, La Mulatière\, 69350
CATEGORIES:Marché
ATTACH;FMTTYPE=image/jpeg:https://les-delices-de-malfrait.fr/wp-content/uploads/2022/09/marche-les-Delices-de-Malfrait-2.jpg
END:VEVENT
BEGIN:VEVENT
DTSTART;TZID=Europe/Paris:20260102T070000
DTEND;TZID=Europe/Paris:20260102T120000
DTSTAMP:20260421T151435
CREATED:20220914T101424Z
LAST-MODIFIED:20220915T164311Z
UID:10001216-1767337200-1767355200@les-delices-de-malfrait.fr
SUMMARY:La Mulatière (vendredi)
DESCRIPTION:Venez nous rencontrer\, tous les mercredis matins et vendredis matins\, sur le marché de La Mulatière.
URL:https://les-delices-de-malfrait.fr/event/la-mulatiere-vendredi/2026-01-02
LOCATION:Marché de La Mulatière\, Place de la Mairie\, La Mulatière\, 69350
CATEGORIES:Marché
ATTACH;FMTTYPE=image/jpeg:https://les-delices-de-malfrait.fr/wp-content/uploads/2022/09/marche-les-Delices-de-Malfrait-2.jpg
END:VEVENT
BEGIN:VEVENT
DTSTART;TZID=Europe/Paris:20251230T070000
DTEND;TZID=Europe/Paris:20251230T120000
DTSTAMP:20260421T151435
CREATED:20220928T155748Z
LAST-MODIFIED:20220928T155810Z
UID:10001731-1767078000-1767096000@les-delices-de-malfrait.fr
SUMMARY:La Mulatière (mardi)
DESCRIPTION:Rencontrons-nous\, tous les mercredis et les vendredis matins\, sur le marché de La Mulatière.
URL:https://les-delices-de-malfrait.fr/event/marche-de-la-mulatiere-2/2025-12-30
LOCATION:Marché de La Mulatière\, Place de la Mairie\, La Mulatière\, 69350
CATEGORIES:Marché
ATTACH;FMTTYPE=image/jpeg:https://les-delices-de-malfrait.fr/wp-content/uploads/2022/09/marche-les-Delices-de-Malfrait-2.jpg
END:VEVENT
BEGIN:VEVENT
DTSTART;TZID=Europe/Paris:20251226T070000
DTEND;TZID=Europe/Paris:20251226T120000
DTSTAMP:20260421T151435
CREATED:20220914T101424Z
LAST-MODIFIED:20220915T164311Z
UID:10001215-1766732400-1766750400@les-delices-de-malfrait.fr
SUMMARY:La Mulatière (vendredi)
DESCRIPTION:Venez nous rencontrer\, tous les mercredis matins et vendredis matins\, sur le marché de La Mulatière.
URL:https://les-delices-de-malfrait.fr/event/la-mulatiere-vendredi/2025-12-26
LOCATION:Marché de La Mulatière\, Place de la Mairie\, La Mulatière\, 69350
CATEGORIES:Marché
ATTACH;FMTTYPE=image/jpeg:https://les-delices-de-malfrait.fr/wp-content/uploads/2022/09/marche-les-Delices-de-Malfrait-2.jpg
END:VEVENT
BEGIN:VEVENT
DTSTART;TZID=Europe/Paris:20251223T070000
DTEND;TZID=Europe/Paris:20251223T120000
DTSTAMP:20260421T151435
CREATED:20220928T155748Z
LAST-MODIFIED:20220928T155810Z
UID:10001730-1766473200-1766491200@les-delices-de-malfrait.fr
SUMMARY:La Mulatière (mardi)
DESCRIPTION:Rencontrons-nous\, tous les mercredis et les vendredis matins\, sur le marché de La Mulatière.
URL:https://les-delices-de-malfrait.fr/event/marche-de-la-mulatiere-2/2025-12-23
LOCATION:Marché de La Mulatière\, Place de la Mairie\, La Mulatière\, 69350
CATEGORIES:Marché
ATTACH;FMTTYPE=image/jpeg:https://les-delices-de-malfrait.fr/wp-content/uploads/2022/09/marche-les-Delices-de-Malfrait-2.jpg
END:VEVENT
BEGIN:VEVENT
DTSTART;TZID=Europe/Paris:20251219T070000
DTEND;TZID=Europe/Paris:20251219T120000
DTSTAMP:20260421T151435
CREATED:20220914T101424Z
LAST-MODIFIED:20220915T164311Z
UID:10001214-1766127600-1766145600@les-delices-de-malfrait.fr
SUMMARY:La Mulatière (vendredi)
DESCRIPTION:Venez nous rencontrer\, tous les mercredis matins et vendredis matins\, sur le marché de La Mulatière.
URL:https://les-delices-de-malfrait.fr/event/la-mulatiere-vendredi/2025-12-19
LOCATION:Marché de La Mulatière\, Place de la Mairie\, La Mulatière\, 69350
CATEGORIES:Marché
ATTACH;FMTTYPE=image/jpeg:https://les-delices-de-malfrait.fr/wp-content/uploads/2022/09/marche-les-Delices-de-Malfrait-2.jpg
END:VEVENT
BEGIN:VEVENT
DTSTART;TZID=Europe/Paris:20251216T070000
DTEND;TZID=Europe/Paris:20251216T120000
DTSTAMP:20260421T151435
CREATED:20220928T155748Z
LAST-MODIFIED:20220928T155810Z
UID:10001729-1765868400-1765886400@les-delices-de-malfrait.fr
SUMMARY:La Mulatière (mardi)
DESCRIPTION:Rencontrons-nous\, tous les mercredis et les vendredis matins\, sur le marché de La Mulatière.
URL:https://les-delices-de-malfrait.fr/event/marche-de-la-mulatiere-2/2025-12-16
LOCATION:Marché de La Mulatière\, Place de la Mairie\, La Mulatière\, 69350
CATEGORIES:Marché
ATTACH;FMTTYPE=image/jpeg:https://les-delices-de-malfrait.fr/wp-content/uploads/2022/09/marche-les-Delices-de-Malfrait-2.jpg
END:VEVENT
BEGIN:VEVENT
DTSTART;TZID=Europe/Paris:20251212T070000
DTEND;TZID=Europe/Paris:20251212T120000
DTSTAMP:20260421T151435
CREATED:20220914T101424Z
LAST-MODIFIED:20220915T164311Z
UID:10001213-1765522800-1765540800@les-delices-de-malfrait.fr
SUMMARY:La Mulatière (vendredi)
DESCRIPTION:Venez nous rencontrer\, tous les mercredis matins et vendredis matins\, sur le marché de La Mulatière.
URL:https://les-delices-de-malfrait.fr/event/la-mulatiere-vendredi/2025-12-12
LOCATION:Marché de La Mulatière\, Place de la Mairie\, La Mulatière\, 69350
CATEGORIES:Marché
ATTACH;FMTTYPE=image/jpeg:https://les-delices-de-malfrait.fr/wp-content/uploads/2022/09/marche-les-Delices-de-Malfrait-2.jpg
END:VEVENT
BEGIN:VEVENT
DTSTART;TZID=Europe/Paris:20251209T070000
DTEND;TZID=Europe/Paris:20251209T120000
DTSTAMP:20260421T151435
CREATED:20220928T155748Z
LAST-MODIFIED:20220928T155810Z
UID:10001728-1765263600-1765281600@les-delices-de-malfrait.fr
SUMMARY:La Mulatière (mardi)
DESCRIPTION:Rencontrons-nous\, tous les mercredis et les vendredis matins\, sur le marché de La Mulatière.
URL:https://les-delices-de-malfrait.fr/event/marche-de-la-mulatiere-2/2025-12-09
LOCATION:Marché de La Mulatière\, Place de la Mairie\, La Mulatière\, 69350
CATEGORIES:Marché
ATTACH;FMTTYPE=image/jpeg:https://les-delices-de-malfrait.fr/wp-content/uploads/2022/09/marche-les-Delices-de-Malfrait-2.jpg
END:VEVENT
BEGIN:VEVENT
DTSTART;TZID=Europe/Paris:20251205T070000
DTEND;TZID=Europe/Paris:20251205T120000
DTSTAMP:20260421T151436
CREATED:20220914T101424Z
LAST-MODIFIED:20220915T164311Z
UID:10001212-1764918000-1764936000@les-delices-de-malfrait.fr
SUMMARY:La Mulatière (vendredi)
DESCRIPTION:Venez nous rencontrer\, tous les mercredis matins et vendredis matins\, sur le marché de La Mulatière.
URL:https://les-delices-de-malfrait.fr/event/la-mulatiere-vendredi/2025-12-05
LOCATION:Marché de La Mulatière\, Place de la Mairie\, La Mulatière\, 69350
CATEGORIES:Marché
ATTACH;FMTTYPE=image/jpeg:https://les-delices-de-malfrait.fr/wp-content/uploads/2022/09/marche-les-Delices-de-Malfrait-2.jpg
END:VEVENT
BEGIN:VEVENT
DTSTART;TZID=Europe/Paris:20251202T070000
DTEND;TZID=Europe/Paris:20251202T120000
DTSTAMP:20260421T151436
CREATED:20220928T155748Z
LAST-MODIFIED:20220928T155810Z
UID:10001727-1764658800-1764676800@les-delices-de-malfrait.fr
SUMMARY:La Mulatière (mardi)
DESCRIPTION:Rencontrons-nous\, tous les mercredis et les vendredis matins\, sur le marché de La Mulatière.
URL:https://les-delices-de-malfrait.fr/event/marche-de-la-mulatiere-2/2025-12-02
LOCATION:Marché de La Mulatière\, Place de la Mairie\, La Mulatière\, 69350
CATEGORIES:Marché
ATTACH;FMTTYPE=image/jpeg:https://les-delices-de-malfrait.fr/wp-content/uploads/2022/09/marche-les-Delices-de-Malfrait-2.jpg
END:VEVENT
BEGIN:VEVENT
DTSTART;TZID=Europe/Paris:20251128T070000
DTEND;TZID=Europe/Paris:20251128T120000
DTSTAMP:20260421T151436
CREATED:20220914T101424Z
LAST-MODIFIED:20220915T164311Z
UID:10001211-1764313200-1764331200@les-delices-de-malfrait.fr
SUMMARY:La Mulatière (vendredi)
DESCRIPTION:Venez nous rencontrer\, tous les mercredis matins et vendredis matins\, sur le marché de La Mulatière.
URL:https://les-delices-de-malfrait.fr/event/la-mulatiere-vendredi/2025-11-28
LOCATION:Marché de La Mulatière\, Place de la Mairie\, La Mulatière\, 69350
CATEGORIES:Marché
ATTACH;FMTTYPE=image/jpeg:https://les-delices-de-malfrait.fr/wp-content/uploads/2022/09/marche-les-Delices-de-Malfrait-2.jpg
END:VEVENT
END:VCALENDAR