BEGIN:VCALENDAR
VERSION:2.0
PRODID:-//Les Delices de Malfrait - ECPv6.14.0//NONSGML v1.0//EN
CALSCALE:GREGORIAN
METHOD:PUBLISH
X-WR-CALNAME:Les Delices de Malfrait
X-ORIGINAL-URL:https://les-delices-de-malfrait.fr
X-WR-CALDESC:Évènements pour Les Delices de Malfrait
REFRESH-INTERVAL;VALUE=DURATION:PT1H
X-Robots-Tag:noindex
X-PUBLISHED-TTL:PT1H
BEGIN:VTIMEZONE
TZID:Europe/Paris
BEGIN:DAYLIGHT
TZOFFSETFROM:+0100
TZOFFSETTO:+0200
TZNAME:CEST
DTSTART:20240331T010000
END:DAYLIGHT
BEGIN:STANDARD
TZOFFSETFROM:+0200
TZOFFSETTO:+0100
TZNAME:CET
DTSTART:20241027T010000
END:STANDARD
END:VTIMEZONE
BEGIN:VEVENT
DTSTART;TZID=Europe/Paris:20241129T150000
DTEND;TZID=Europe/Paris:20241129T190000
DTSTAMP:20260421T163013
CREATED:20220913T170958Z
LAST-MODIFIED:20220915T164216Z
UID:10000899-1732892400-1732906800@les-delices-de-malfrait.fr
SUMMARY:La Gravière (vendredi)
DESCRIPTION:Venez nous rencontrer\, tous les vendredis après-midi\, sur la marché de La Gravière à Sainte-Foy-les-Lyon.
URL:https://les-delices-de-malfrait.fr/event/marche-de-la-graviere/2024-11-29
LOCATION:Marché de La Gravière\, Place de La Gravière\, Sainte-Foy-les-Lyon\, 69202
ATTACH;FMTTYPE=image/jpeg:https://les-delices-de-malfrait.fr/wp-content/uploads/2022/09/marche-les-Delices-de-Malfrait-6.jpg
END:VEVENT
BEGIN:VEVENT
DTSTART;TZID=Europe/Paris:20241122T150000
DTEND;TZID=Europe/Paris:20241122T190000
DTSTAMP:20260421T163013
CREATED:20220913T170958Z
LAST-MODIFIED:20220915T164216Z
UID:10000898-1732287600-1732302000@les-delices-de-malfrait.fr
SUMMARY:La Gravière (vendredi)
DESCRIPTION:Venez nous rencontrer\, tous les vendredis après-midi\, sur la marché de La Gravière à Sainte-Foy-les-Lyon.
URL:https://les-delices-de-malfrait.fr/event/marche-de-la-graviere/2024-11-22
LOCATION:Marché de La Gravière\, Place de La Gravière\, Sainte-Foy-les-Lyon\, 69202
ATTACH;FMTTYPE=image/jpeg:https://les-delices-de-malfrait.fr/wp-content/uploads/2022/09/marche-les-Delices-de-Malfrait-6.jpg
END:VEVENT
BEGIN:VEVENT
DTSTART;TZID=Europe/Paris:20241115T150000
DTEND;TZID=Europe/Paris:20241115T190000
DTSTAMP:20260421T163013
CREATED:20220913T170958Z
LAST-MODIFIED:20220915T164216Z
UID:10000897-1731682800-1731697200@les-delices-de-malfrait.fr
SUMMARY:La Gravière (vendredi)
DESCRIPTION:Venez nous rencontrer\, tous les vendredis après-midi\, sur la marché de La Gravière à Sainte-Foy-les-Lyon.
URL:https://les-delices-de-malfrait.fr/event/marche-de-la-graviere/2024-11-15
LOCATION:Marché de La Gravière\, Place de La Gravière\, Sainte-Foy-les-Lyon\, 69202
ATTACH;FMTTYPE=image/jpeg:https://les-delices-de-malfrait.fr/wp-content/uploads/2022/09/marche-les-Delices-de-Malfrait-6.jpg
END:VEVENT
BEGIN:VEVENT
DTSTART;TZID=Europe/Paris:20241108T150000
DTEND;TZID=Europe/Paris:20241108T190000
DTSTAMP:20260421T163013
CREATED:20220913T170958Z
LAST-MODIFIED:20220915T164216Z
UID:10000896-1731078000-1731092400@les-delices-de-malfrait.fr
SUMMARY:La Gravière (vendredi)
DESCRIPTION:Venez nous rencontrer\, tous les vendredis après-midi\, sur la marché de La Gravière à Sainte-Foy-les-Lyon.
URL:https://les-delices-de-malfrait.fr/event/marche-de-la-graviere/2024-11-08
LOCATION:Marché de La Gravière\, Place de La Gravière\, Sainte-Foy-les-Lyon\, 69202
ATTACH;FMTTYPE=image/jpeg:https://les-delices-de-malfrait.fr/wp-content/uploads/2022/09/marche-les-Delices-de-Malfrait-6.jpg
END:VEVENT
BEGIN:VEVENT
DTSTART;TZID=Europe/Paris:20241101T150000
DTEND;TZID=Europe/Paris:20241101T190000
DTSTAMP:20260421T163013
CREATED:20220913T170958Z
LAST-MODIFIED:20220915T164216Z
UID:10000895-1730473200-1730487600@les-delices-de-malfrait.fr
SUMMARY:La Gravière (vendredi)
DESCRIPTION:Venez nous rencontrer\, tous les vendredis après-midi\, sur la marché de La Gravière à Sainte-Foy-les-Lyon.
URL:https://les-delices-de-malfrait.fr/event/marche-de-la-graviere/2024-11-01
LOCATION:Marché de La Gravière\, Place de La Gravière\, Sainte-Foy-les-Lyon\, 69202
ATTACH;FMTTYPE=image/jpeg:https://les-delices-de-malfrait.fr/wp-content/uploads/2022/09/marche-les-Delices-de-Malfrait-6.jpg
END:VEVENT
BEGIN:VEVENT
DTSTART;TZID=Europe/Paris:20241025T150000
DTEND;TZID=Europe/Paris:20241025T190000
DTSTAMP:20260421T163013
CREATED:20220913T170958Z
LAST-MODIFIED:20220915T164216Z
UID:10000894-1729868400-1729882800@les-delices-de-malfrait.fr
SUMMARY:La Gravière (vendredi)
DESCRIPTION:Venez nous rencontrer\, tous les vendredis après-midi\, sur la marché de La Gravière à Sainte-Foy-les-Lyon.
URL:https://les-delices-de-malfrait.fr/event/marche-de-la-graviere/2024-10-25
LOCATION:Marché de La Gravière\, Place de La Gravière\, Sainte-Foy-les-Lyon\, 69202
ATTACH;FMTTYPE=image/jpeg:https://les-delices-de-malfrait.fr/wp-content/uploads/2022/09/marche-les-Delices-de-Malfrait-6.jpg
END:VEVENT
BEGIN:VEVENT
DTSTART;TZID=Europe/Paris:20241018T150000
DTEND;TZID=Europe/Paris:20241018T190000
DTSTAMP:20260421T163013
CREATED:20220913T170958Z
LAST-MODIFIED:20220915T164216Z
UID:10000893-1729263600-1729278000@les-delices-de-malfrait.fr
SUMMARY:La Gravière (vendredi)
DESCRIPTION:Venez nous rencontrer\, tous les vendredis après-midi\, sur la marché de La Gravière à Sainte-Foy-les-Lyon.
URL:https://les-delices-de-malfrait.fr/event/marche-de-la-graviere/2024-10-18
LOCATION:Marché de La Gravière\, Place de La Gravière\, Sainte-Foy-les-Lyon\, 69202
ATTACH;FMTTYPE=image/jpeg:https://les-delices-de-malfrait.fr/wp-content/uploads/2022/09/marche-les-Delices-de-Malfrait-6.jpg
END:VEVENT
BEGIN:VEVENT
DTSTART;TZID=Europe/Paris:20241011T150000
DTEND;TZID=Europe/Paris:20241011T190000
DTSTAMP:20260421T163013
CREATED:20220913T170958Z
LAST-MODIFIED:20220915T164216Z
UID:10000892-1728658800-1728673200@les-delices-de-malfrait.fr
SUMMARY:La Gravière (vendredi)
DESCRIPTION:Venez nous rencontrer\, tous les vendredis après-midi\, sur la marché de La Gravière à Sainte-Foy-les-Lyon.
URL:https://les-delices-de-malfrait.fr/event/marche-de-la-graviere/2024-10-11
LOCATION:Marché de La Gravière\, Place de La Gravière\, Sainte-Foy-les-Lyon\, 69202
ATTACH;FMTTYPE=image/jpeg:https://les-delices-de-malfrait.fr/wp-content/uploads/2022/09/marche-les-Delices-de-Malfrait-6.jpg
END:VEVENT
BEGIN:VEVENT
DTSTART;TZID=Europe/Paris:20241004T150000
DTEND;TZID=Europe/Paris:20241004T190000
DTSTAMP:20260421T163013
CREATED:20220913T170958Z
LAST-MODIFIED:20220915T164216Z
UID:10000891-1728054000-1728068400@les-delices-de-malfrait.fr
SUMMARY:La Gravière (vendredi)
DESCRIPTION:Venez nous rencontrer\, tous les vendredis après-midi\, sur la marché de La Gravière à Sainte-Foy-les-Lyon.
URL:https://les-delices-de-malfrait.fr/event/marche-de-la-graviere/2024-10-04
LOCATION:Marché de La Gravière\, Place de La Gravière\, Sainte-Foy-les-Lyon\, 69202
ATTACH;FMTTYPE=image/jpeg:https://les-delices-de-malfrait.fr/wp-content/uploads/2022/09/marche-les-Delices-de-Malfrait-6.jpg
END:VEVENT
BEGIN:VEVENT
DTSTART;TZID=Europe/Paris:20240927T150000
DTEND;TZID=Europe/Paris:20240927T190000
DTSTAMP:20260421T163013
CREATED:20220913T170958Z
LAST-MODIFIED:20220915T164216Z
UID:10000890-1727449200-1727463600@les-delices-de-malfrait.fr
SUMMARY:La Gravière (vendredi)
DESCRIPTION:Venez nous rencontrer\, tous les vendredis après-midi\, sur la marché de La Gravière à Sainte-Foy-les-Lyon.
URL:https://les-delices-de-malfrait.fr/event/marche-de-la-graviere/2024-09-27
LOCATION:Marché de La Gravière\, Place de La Gravière\, Sainte-Foy-les-Lyon\, 69202
ATTACH;FMTTYPE=image/jpeg:https://les-delices-de-malfrait.fr/wp-content/uploads/2022/09/marche-les-Delices-de-Malfrait-6.jpg
END:VEVENT
BEGIN:VEVENT
DTSTART;TZID=Europe/Paris:20240920T150000
DTEND;TZID=Europe/Paris:20240920T190000
DTSTAMP:20260421T163013
CREATED:20220913T170958Z
LAST-MODIFIED:20220915T164216Z
UID:10000889-1726844400-1726858800@les-delices-de-malfrait.fr
SUMMARY:La Gravière (vendredi)
DESCRIPTION:Venez nous rencontrer\, tous les vendredis après-midi\, sur la marché de La Gravière à Sainte-Foy-les-Lyon.
URL:https://les-delices-de-malfrait.fr/event/marche-de-la-graviere/2024-09-20
LOCATION:Marché de La Gravière\, Place de La Gravière\, Sainte-Foy-les-Lyon\, 69202
ATTACH;FMTTYPE=image/jpeg:https://les-delices-de-malfrait.fr/wp-content/uploads/2022/09/marche-les-Delices-de-Malfrait-6.jpg
END:VEVENT
BEGIN:VEVENT
DTSTART;TZID=Europe/Paris:20240913T150000
DTEND;TZID=Europe/Paris:20240913T190000
DTSTAMP:20260421T163013
CREATED:20220913T170958Z
LAST-MODIFIED:20220915T164216Z
UID:10000888-1726239600-1726254000@les-delices-de-malfrait.fr
SUMMARY:La Gravière (vendredi)
DESCRIPTION:Venez nous rencontrer\, tous les vendredis après-midi\, sur la marché de La Gravière à Sainte-Foy-les-Lyon.
URL:https://les-delices-de-malfrait.fr/event/marche-de-la-graviere/2024-09-13
LOCATION:Marché de La Gravière\, Place de La Gravière\, Sainte-Foy-les-Lyon\, 69202
ATTACH;FMTTYPE=image/jpeg:https://les-delices-de-malfrait.fr/wp-content/uploads/2022/09/marche-les-Delices-de-Malfrait-6.jpg
END:VEVENT
BEGIN:VEVENT
DTSTART;TZID=Europe/Paris:20240906T150000
DTEND;TZID=Europe/Paris:20240906T190000
DTSTAMP:20260421T163013
CREATED:20220913T170958Z
LAST-MODIFIED:20220915T164216Z
UID:10000887-1725634800-1725649200@les-delices-de-malfrait.fr
SUMMARY:La Gravière (vendredi)
DESCRIPTION:Venez nous rencontrer\, tous les vendredis après-midi\, sur la marché de La Gravière à Sainte-Foy-les-Lyon.
URL:https://les-delices-de-malfrait.fr/event/marche-de-la-graviere/2024-09-06
LOCATION:Marché de La Gravière\, Place de La Gravière\, Sainte-Foy-les-Lyon\, 69202
ATTACH;FMTTYPE=image/jpeg:https://les-delices-de-malfrait.fr/wp-content/uploads/2022/09/marche-les-Delices-de-Malfrait-6.jpg
END:VEVENT
BEGIN:VEVENT
DTSTART;TZID=Europe/Paris:20240830T150000
DTEND;TZID=Europe/Paris:20240830T190000
DTSTAMP:20260421T163013
CREATED:20220913T170958Z
LAST-MODIFIED:20220915T164216Z
UID:10000886-1725030000-1725044400@les-delices-de-malfrait.fr
SUMMARY:La Gravière (vendredi)
DESCRIPTION:Venez nous rencontrer\, tous les vendredis après-midi\, sur la marché de La Gravière à Sainte-Foy-les-Lyon.
URL:https://les-delices-de-malfrait.fr/event/marche-de-la-graviere/2024-08-30
LOCATION:Marché de La Gravière\, Place de La Gravière\, Sainte-Foy-les-Lyon\, 69202
ATTACH;FMTTYPE=image/jpeg:https://les-delices-de-malfrait.fr/wp-content/uploads/2022/09/marche-les-Delices-de-Malfrait-6.jpg
END:VEVENT
BEGIN:VEVENT
DTSTART;TZID=Europe/Paris:20240823T150000
DTEND;TZID=Europe/Paris:20240823T190000
DTSTAMP:20260421T163013
CREATED:20220913T170958Z
LAST-MODIFIED:20220915T164216Z
UID:10000885-1724425200-1724439600@les-delices-de-malfrait.fr
SUMMARY:La Gravière (vendredi)
DESCRIPTION:Venez nous rencontrer\, tous les vendredis après-midi\, sur la marché de La Gravière à Sainte-Foy-les-Lyon.
URL:https://les-delices-de-malfrait.fr/event/marche-de-la-graviere/2024-08-23
LOCATION:Marché de La Gravière\, Place de La Gravière\, Sainte-Foy-les-Lyon\, 69202
ATTACH;FMTTYPE=image/jpeg:https://les-delices-de-malfrait.fr/wp-content/uploads/2022/09/marche-les-Delices-de-Malfrait-6.jpg
END:VEVENT
BEGIN:VEVENT
DTSTART;TZID=Europe/Paris:20240816T150000
DTEND;TZID=Europe/Paris:20240816T190000
DTSTAMP:20260421T163013
CREATED:20220913T170958Z
LAST-MODIFIED:20220915T164216Z
UID:10000884-1723820400-1723834800@les-delices-de-malfrait.fr
SUMMARY:La Gravière (vendredi)
DESCRIPTION:Venez nous rencontrer\, tous les vendredis après-midi\, sur la marché de La Gravière à Sainte-Foy-les-Lyon.
URL:https://les-delices-de-malfrait.fr/event/marche-de-la-graviere/2024-08-16
LOCATION:Marché de La Gravière\, Place de La Gravière\, Sainte-Foy-les-Lyon\, 69202
ATTACH;FMTTYPE=image/jpeg:https://les-delices-de-malfrait.fr/wp-content/uploads/2022/09/marche-les-Delices-de-Malfrait-6.jpg
END:VEVENT
BEGIN:VEVENT
DTSTART;TZID=Europe/Paris:20240809T150000
DTEND;TZID=Europe/Paris:20240809T190000
DTSTAMP:20260421T163013
CREATED:20220913T170958Z
LAST-MODIFIED:20220915T164216Z
UID:10000883-1723215600-1723230000@les-delices-de-malfrait.fr
SUMMARY:La Gravière (vendredi)
DESCRIPTION:Venez nous rencontrer\, tous les vendredis après-midi\, sur la marché de La Gravière à Sainte-Foy-les-Lyon.
URL:https://les-delices-de-malfrait.fr/event/marche-de-la-graviere/2024-08-09
LOCATION:Marché de La Gravière\, Place de La Gravière\, Sainte-Foy-les-Lyon\, 69202
ATTACH;FMTTYPE=image/jpeg:https://les-delices-de-malfrait.fr/wp-content/uploads/2022/09/marche-les-Delices-de-Malfrait-6.jpg
END:VEVENT
BEGIN:VEVENT
DTSTART;TZID=Europe/Paris:20240802T150000
DTEND;TZID=Europe/Paris:20240802T190000
DTSTAMP:20260421T163013
CREATED:20220913T170958Z
LAST-MODIFIED:20220915T164216Z
UID:10000882-1722610800-1722625200@les-delices-de-malfrait.fr
SUMMARY:La Gravière (vendredi)
DESCRIPTION:Venez nous rencontrer\, tous les vendredis après-midi\, sur la marché de La Gravière à Sainte-Foy-les-Lyon.
URL:https://les-delices-de-malfrait.fr/event/marche-de-la-graviere/2024-08-02
LOCATION:Marché de La Gravière\, Place de La Gravière\, Sainte-Foy-les-Lyon\, 69202
ATTACH;FMTTYPE=image/jpeg:https://les-delices-de-malfrait.fr/wp-content/uploads/2022/09/marche-les-Delices-de-Malfrait-6.jpg
END:VEVENT
BEGIN:VEVENT
DTSTART;TZID=Europe/Paris:20240726T150000
DTEND;TZID=Europe/Paris:20240726T190000
DTSTAMP:20260421T163013
CREATED:20220913T170958Z
LAST-MODIFIED:20220915T164216Z
UID:10000881-1722006000-1722020400@les-delices-de-malfrait.fr
SUMMARY:La Gravière (vendredi)
DESCRIPTION:Venez nous rencontrer\, tous les vendredis après-midi\, sur la marché de La Gravière à Sainte-Foy-les-Lyon.
URL:https://les-delices-de-malfrait.fr/event/marche-de-la-graviere/2024-07-26
LOCATION:Marché de La Gravière\, Place de La Gravière\, Sainte-Foy-les-Lyon\, 69202
ATTACH;FMTTYPE=image/jpeg:https://les-delices-de-malfrait.fr/wp-content/uploads/2022/09/marche-les-Delices-de-Malfrait-6.jpg
END:VEVENT
BEGIN:VEVENT
DTSTART;TZID=Europe/Paris:20240719T150000
DTEND;TZID=Europe/Paris:20240719T190000
DTSTAMP:20260421T163013
CREATED:20220913T170958Z
LAST-MODIFIED:20220915T164216Z
UID:10000880-1721401200-1721415600@les-delices-de-malfrait.fr
SUMMARY:La Gravière (vendredi)
DESCRIPTION:Venez nous rencontrer\, tous les vendredis après-midi\, sur la marché de La Gravière à Sainte-Foy-les-Lyon.
URL:https://les-delices-de-malfrait.fr/event/marche-de-la-graviere/2024-07-19
LOCATION:Marché de La Gravière\, Place de La Gravière\, Sainte-Foy-les-Lyon\, 69202
ATTACH;FMTTYPE=image/jpeg:https://les-delices-de-malfrait.fr/wp-content/uploads/2022/09/marche-les-Delices-de-Malfrait-6.jpg
END:VEVENT
BEGIN:VEVENT
DTSTART;TZID=Europe/Paris:20240712T150000
DTEND;TZID=Europe/Paris:20240712T190000
DTSTAMP:20260421T163013
CREATED:20220913T170958Z
LAST-MODIFIED:20220915T164216Z
UID:10000879-1720796400-1720810800@les-delices-de-malfrait.fr
SUMMARY:La Gravière (vendredi)
DESCRIPTION:Venez nous rencontrer\, tous les vendredis après-midi\, sur la marché de La Gravière à Sainte-Foy-les-Lyon.
URL:https://les-delices-de-malfrait.fr/event/marche-de-la-graviere/2024-07-12
LOCATION:Marché de La Gravière\, Place de La Gravière\, Sainte-Foy-les-Lyon\, 69202
ATTACH;FMTTYPE=image/jpeg:https://les-delices-de-malfrait.fr/wp-content/uploads/2022/09/marche-les-Delices-de-Malfrait-6.jpg
END:VEVENT
BEGIN:VEVENT
DTSTART;TZID=Europe/Paris:20240705T150000
DTEND;TZID=Europe/Paris:20240705T190000
DTSTAMP:20260421T163013
CREATED:20220913T170958Z
LAST-MODIFIED:20220915T164216Z
UID:10000878-1720191600-1720206000@les-delices-de-malfrait.fr
SUMMARY:La Gravière (vendredi)
DESCRIPTION:Venez nous rencontrer\, tous les vendredis après-midi\, sur la marché de La Gravière à Sainte-Foy-les-Lyon.
URL:https://les-delices-de-malfrait.fr/event/marche-de-la-graviere/2024-07-05
LOCATION:Marché de La Gravière\, Place de La Gravière\, Sainte-Foy-les-Lyon\, 69202
ATTACH;FMTTYPE=image/jpeg:https://les-delices-de-malfrait.fr/wp-content/uploads/2022/09/marche-les-Delices-de-Malfrait-6.jpg
END:VEVENT
BEGIN:VEVENT
DTSTART;TZID=Europe/Paris:20240628T150000
DTEND;TZID=Europe/Paris:20240628T190000
DTSTAMP:20260421T163013
CREATED:20220913T170958Z
LAST-MODIFIED:20220915T164216Z
UID:10000877-1719586800-1719601200@les-delices-de-malfrait.fr
SUMMARY:La Gravière (vendredi)
DESCRIPTION:Venez nous rencontrer\, tous les vendredis après-midi\, sur la marché de La Gravière à Sainte-Foy-les-Lyon.
URL:https://les-delices-de-malfrait.fr/event/marche-de-la-graviere/2024-06-28
LOCATION:Marché de La Gravière\, Place de La Gravière\, Sainte-Foy-les-Lyon\, 69202
ATTACH;FMTTYPE=image/jpeg:https://les-delices-de-malfrait.fr/wp-content/uploads/2022/09/marche-les-Delices-de-Malfrait-6.jpg
END:VEVENT
BEGIN:VEVENT
DTSTART;TZID=Europe/Paris:20240621T150000
DTEND;TZID=Europe/Paris:20240621T190000
DTSTAMP:20260421T163013
CREATED:20220913T170958Z
LAST-MODIFIED:20220915T164216Z
UID:10000876-1718982000-1718996400@les-delices-de-malfrait.fr
SUMMARY:La Gravière (vendredi)
DESCRIPTION:Venez nous rencontrer\, tous les vendredis après-midi\, sur la marché de La Gravière à Sainte-Foy-les-Lyon.
URL:https://les-delices-de-malfrait.fr/event/marche-de-la-graviere/2024-06-21
LOCATION:Marché de La Gravière\, Place de La Gravière\, Sainte-Foy-les-Lyon\, 69202
ATTACH;FMTTYPE=image/jpeg:https://les-delices-de-malfrait.fr/wp-content/uploads/2022/09/marche-les-Delices-de-Malfrait-6.jpg
END:VEVENT
BEGIN:VEVENT
DTSTART;TZID=Europe/Paris:20240614T150000
DTEND;TZID=Europe/Paris:20240614T190000
DTSTAMP:20260421T163013
CREATED:20220913T170958Z
LAST-MODIFIED:20220915T164216Z
UID:10000875-1718377200-1718391600@les-delices-de-malfrait.fr
SUMMARY:La Gravière (vendredi)
DESCRIPTION:Venez nous rencontrer\, tous les vendredis après-midi\, sur la marché de La Gravière à Sainte-Foy-les-Lyon.
URL:https://les-delices-de-malfrait.fr/event/marche-de-la-graviere/2024-06-14
LOCATION:Marché de La Gravière\, Place de La Gravière\, Sainte-Foy-les-Lyon\, 69202
ATTACH;FMTTYPE=image/jpeg:https://les-delices-de-malfrait.fr/wp-content/uploads/2022/09/marche-les-Delices-de-Malfrait-6.jpg
END:VEVENT
BEGIN:VEVENT
DTSTART;TZID=Europe/Paris:20240607T150000
DTEND;TZID=Europe/Paris:20240607T190000
DTSTAMP:20260421T163013
CREATED:20220913T170958Z
LAST-MODIFIED:20220915T164216Z
UID:10000874-1717772400-1717786800@les-delices-de-malfrait.fr
SUMMARY:La Gravière (vendredi)
DESCRIPTION:Venez nous rencontrer\, tous les vendredis après-midi\, sur la marché de La Gravière à Sainte-Foy-les-Lyon.
URL:https://les-delices-de-malfrait.fr/event/marche-de-la-graviere/2024-06-07
LOCATION:Marché de La Gravière\, Place de La Gravière\, Sainte-Foy-les-Lyon\, 69202
ATTACH;FMTTYPE=image/jpeg:https://les-delices-de-malfrait.fr/wp-content/uploads/2022/09/marche-les-Delices-de-Malfrait-6.jpg
END:VEVENT
BEGIN:VEVENT
DTSTART;TZID=Europe/Paris:20240531T150000
DTEND;TZID=Europe/Paris:20240531T190000
DTSTAMP:20260421T163013
CREATED:20220913T170958Z
LAST-MODIFIED:20220915T164216Z
UID:10000873-1717167600-1717182000@les-delices-de-malfrait.fr
SUMMARY:La Gravière (vendredi)
DESCRIPTION:Venez nous rencontrer\, tous les vendredis après-midi\, sur la marché de La Gravière à Sainte-Foy-les-Lyon.
URL:https://les-delices-de-malfrait.fr/event/marche-de-la-graviere/2024-05-31
LOCATION:Marché de La Gravière\, Place de La Gravière\, Sainte-Foy-les-Lyon\, 69202
ATTACH;FMTTYPE=image/jpeg:https://les-delices-de-malfrait.fr/wp-content/uploads/2022/09/marche-les-Delices-de-Malfrait-6.jpg
END:VEVENT
BEGIN:VEVENT
DTSTART;TZID=Europe/Paris:20240524T150000
DTEND;TZID=Europe/Paris:20240524T190000
DTSTAMP:20260421T163013
CREATED:20220913T170958Z
LAST-MODIFIED:20220915T164216Z
UID:10000872-1716562800-1716577200@les-delices-de-malfrait.fr
SUMMARY:La Gravière (vendredi)
DESCRIPTION:Venez nous rencontrer\, tous les vendredis après-midi\, sur la marché de La Gravière à Sainte-Foy-les-Lyon.
URL:https://les-delices-de-malfrait.fr/event/marche-de-la-graviere/2024-05-24
LOCATION:Marché de La Gravière\, Place de La Gravière\, Sainte-Foy-les-Lyon\, 69202
ATTACH;FMTTYPE=image/jpeg:https://les-delices-de-malfrait.fr/wp-content/uploads/2022/09/marche-les-Delices-de-Malfrait-6.jpg
END:VEVENT
BEGIN:VEVENT
DTSTART;TZID=Europe/Paris:20240517T150000
DTEND;TZID=Europe/Paris:20240517T190000
DTSTAMP:20260421T163013
CREATED:20220913T170958Z
LAST-MODIFIED:20220915T164216Z
UID:10000871-1715958000-1715972400@les-delices-de-malfrait.fr
SUMMARY:La Gravière (vendredi)
DESCRIPTION:Venez nous rencontrer\, tous les vendredis après-midi\, sur la marché de La Gravière à Sainte-Foy-les-Lyon.
URL:https://les-delices-de-malfrait.fr/event/marche-de-la-graviere/2024-05-17
LOCATION:Marché de La Gravière\, Place de La Gravière\, Sainte-Foy-les-Lyon\, 69202
ATTACH;FMTTYPE=image/jpeg:https://les-delices-de-malfrait.fr/wp-content/uploads/2022/09/marche-les-Delices-de-Malfrait-6.jpg
END:VEVENT
BEGIN:VEVENT
DTSTART;TZID=Europe/Paris:20240510T150000
DTEND;TZID=Europe/Paris:20240510T190000
DTSTAMP:20260421T163013
CREATED:20220913T170958Z
LAST-MODIFIED:20220915T164216Z
UID:10000870-1715353200-1715367600@les-delices-de-malfrait.fr
SUMMARY:La Gravière (vendredi)
DESCRIPTION:Venez nous rencontrer\, tous les vendredis après-midi\, sur la marché de La Gravière à Sainte-Foy-les-Lyon.
URL:https://les-delices-de-malfrait.fr/event/marche-de-la-graviere/2024-05-10
LOCATION:Marché de La Gravière\, Place de La Gravière\, Sainte-Foy-les-Lyon\, 69202
ATTACH;FMTTYPE=image/jpeg:https://les-delices-de-malfrait.fr/wp-content/uploads/2022/09/marche-les-Delices-de-Malfrait-6.jpg
END:VEVENT
END:VCALENDAR