BEGIN:VCALENDAR
VERSION:2.0
PRODID:-//Les Delices de Malfrait - ECPv6.14.0//NONSGML v1.0//EN
CALSCALE:GREGORIAN
METHOD:PUBLISH
X-WR-CALNAME:Les Delices de Malfrait
X-ORIGINAL-URL:https://les-delices-de-malfrait.fr
X-WR-CALDESC:Évènements pour Les Delices de Malfrait
REFRESH-INTERVAL;VALUE=DURATION:PT1H
X-Robots-Tag:noindex
X-PUBLISHED-TTL:PT1H
BEGIN:VTIMEZONE
TZID:Europe/Paris
BEGIN:DAYLIGHT
TZOFFSETFROM:+0100
TZOFFSETTO:+0200
TZNAME:CEST
DTSTART:20260329T010000
END:DAYLIGHT
BEGIN:STANDARD
TZOFFSETFROM:+0200
TZOFFSETTO:+0100
TZNAME:CET
DTSTART:20261025T010000
END:STANDARD
END:VTIMEZONE
BEGIN:VEVENT
DTSTART;TZID=Europe/Paris:20260102T070000
DTEND;TZID=Europe/Paris:20260102T120000
DTSTAMP:20260421T095419
CREATED:20220914T101424Z
LAST-MODIFIED:20220915T164311Z
UID:10001216-1767337200-1767355200@les-delices-de-malfrait.fr
SUMMARY:La Mulatière (vendredi)
DESCRIPTION:Venez nous rencontrer\, tous les mercredis matins et vendredis matins\, sur le marché de La Mulatière.
URL:https://les-delices-de-malfrait.fr/event/la-mulatiere-vendredi/2026-01-02
LOCATION:Marché de La Mulatière\, Place de la Mairie\, La Mulatière\, 69350
CATEGORIES:Marché
ATTACH;FMTTYPE=image/jpeg:https://les-delices-de-malfrait.fr/wp-content/uploads/2022/09/marche-les-Delices-de-Malfrait-2.jpg
END:VEVENT
BEGIN:VEVENT
DTSTART;TZID=Europe/Paris:20260102T150000
DTEND;TZID=Europe/Paris:20260102T190000
DTSTAMP:20260421T095419
CREATED:20220913T170958Z
LAST-MODIFIED:20220915T164216Z
UID:10000956-1767366000-1767380400@les-delices-de-malfrait.fr
SUMMARY:La Gravière (vendredi)
DESCRIPTION:Venez nous rencontrer\, tous les vendredis après-midi\, sur la marché de La Gravière à Sainte-Foy-les-Lyon.
URL:https://les-delices-de-malfrait.fr/event/marche-de-la-graviere/2026-01-02
LOCATION:Marché de La Gravière\, Place de La Gravière\, Sainte-Foy-les-Lyon\, 69202
ATTACH;FMTTYPE=image/jpeg:https://les-delices-de-malfrait.fr/wp-content/uploads/2022/09/marche-les-Delices-de-Malfrait-6.jpg
END:VEVENT
BEGIN:VEVENT
DTSTART;TZID=Europe/Paris:20260103T070000
DTEND;TZID=Europe/Paris:20260103T120000
DTSTAMP:20260421T095419
CREATED:20220913T170809Z
LAST-MODIFIED:20220915T164147Z
UID:10000696-1767423600-1767441600@les-delices-de-malfrait.fr
SUMMARY:Le Puy-en-Velay (samedi)
DESCRIPTION:Venez nous rencontrer\, tous les samedis matins et dès 7h du matin\, sur le marché du Puy-en-Velay.
URL:https://les-delices-de-malfrait.fr/event/le-puy-en-velay/2026-01-03
LOCATION:Marché du Puy-en-Velay\, Rue Grenouillit\, Le Puy-en-Velay\, 43000
ATTACH;FMTTYPE=image/jpeg:https://les-delices-de-malfrait.fr/wp-content/uploads/2022/09/marche-les-Delices-de-Malfrait-5.jpg
END:VEVENT
BEGIN:VEVENT
DTSTART;TZID=Europe/Paris:20260106T070000
DTEND;TZID=Europe/Paris:20260106T120000
DTSTAMP:20260421T095419
CREATED:20220928T155748Z
LAST-MODIFIED:20220928T155810Z
UID:10001732-1767682800-1767700800@les-delices-de-malfrait.fr
SUMMARY:La Mulatière (mardi)
DESCRIPTION:Rencontrons-nous\, tous les mercredis et les vendredis matins\, sur le marché de La Mulatière.
URL:https://les-delices-de-malfrait.fr/event/marche-de-la-mulatiere-2/2026-01-06
LOCATION:Marché de La Mulatière\, Place de la Mairie\, La Mulatière\, 69350
CATEGORIES:Marché
ATTACH;FMTTYPE=image/jpeg:https://les-delices-de-malfrait.fr/wp-content/uploads/2022/09/marche-les-Delices-de-Malfrait-2.jpg
END:VEVENT
BEGIN:VEVENT
DTSTART;TZID=Europe/Paris:20260107T070000
DTEND;TZID=Europe/Paris:20260107T120000
DTSTAMP:20260421T095419
CREATED:20220928T155628Z
LAST-MODIFIED:20220928T155649Z
UID:10001474-1767769200-1767787200@les-delices-de-malfrait.fr
SUMMARY:Retournac (mercredi)
DESCRIPTION:Venez nous rencontrer\, tous les mercredis matins et dès 7h du matin\, sur le marché de Retournac.
URL:https://les-delices-de-malfrait.fr/event/marche-de-retournac-2/2026-01-07
LOCATION:Marché de Retournac\, Place de l'Eglise\, Retournac\, 43130
ATTACH;FMTTYPE=image/jpeg:https://les-delices-de-malfrait.fr/wp-content/uploads/2022/09/marche-les-Delices-de-Malfrait-7.jpg
END:VEVENT
BEGIN:VEVENT
DTSTART;TZID=Europe/Paris:20260109T070000
DTEND;TZID=Europe/Paris:20260109T120000
DTSTAMP:20260421T095419
CREATED:20220914T101424Z
LAST-MODIFIED:20220915T164311Z
UID:10001217-1767942000-1767960000@les-delices-de-malfrait.fr
SUMMARY:La Mulatière (vendredi)
DESCRIPTION:Venez nous rencontrer\, tous les mercredis matins et vendredis matins\, sur le marché de La Mulatière.
URL:https://les-delices-de-malfrait.fr/event/la-mulatiere-vendredi/2026-01-09
LOCATION:Marché de La Mulatière\, Place de la Mairie\, La Mulatière\, 69350
CATEGORIES:Marché
ATTACH;FMTTYPE=image/jpeg:https://les-delices-de-malfrait.fr/wp-content/uploads/2022/09/marche-les-Delices-de-Malfrait-2.jpg
END:VEVENT
BEGIN:VEVENT
DTSTART;TZID=Europe/Paris:20260109T150000
DTEND;TZID=Europe/Paris:20260109T190000
DTSTAMP:20260421T095419
CREATED:20220913T170958Z
LAST-MODIFIED:20220915T164216Z
UID:10000957-1767970800-1767985200@les-delices-de-malfrait.fr
SUMMARY:La Gravière (vendredi)
DESCRIPTION:Venez nous rencontrer\, tous les vendredis après-midi\, sur la marché de La Gravière à Sainte-Foy-les-Lyon.
URL:https://les-delices-de-malfrait.fr/event/marche-de-la-graviere/2026-01-09
LOCATION:Marché de La Gravière\, Place de La Gravière\, Sainte-Foy-les-Lyon\, 69202
ATTACH;FMTTYPE=image/jpeg:https://les-delices-de-malfrait.fr/wp-content/uploads/2022/09/marche-les-Delices-de-Malfrait-6.jpg
END:VEVENT
BEGIN:VEVENT
DTSTART;TZID=Europe/Paris:20260110T070000
DTEND;TZID=Europe/Paris:20260110T120000
DTSTAMP:20260421T095419
CREATED:20220913T170809Z
LAST-MODIFIED:20220915T164147Z
UID:10000697-1768028400-1768046400@les-delices-de-malfrait.fr
SUMMARY:Le Puy-en-Velay (samedi)
DESCRIPTION:Venez nous rencontrer\, tous les samedis matins et dès 7h du matin\, sur le marché du Puy-en-Velay.
URL:https://les-delices-de-malfrait.fr/event/le-puy-en-velay/2026-01-10
LOCATION:Marché du Puy-en-Velay\, Rue Grenouillit\, Le Puy-en-Velay\, 43000
ATTACH;FMTTYPE=image/jpeg:https://les-delices-de-malfrait.fr/wp-content/uploads/2022/09/marche-les-Delices-de-Malfrait-5.jpg
END:VEVENT
BEGIN:VEVENT
DTSTART;TZID=Europe/Paris:20260113T070000
DTEND;TZID=Europe/Paris:20260113T120000
DTSTAMP:20260421T095419
CREATED:20220928T155748Z
LAST-MODIFIED:20220928T155810Z
UID:10001733-1768287600-1768305600@les-delices-de-malfrait.fr
SUMMARY:La Mulatière (mardi)
DESCRIPTION:Rencontrons-nous\, tous les mercredis et les vendredis matins\, sur le marché de La Mulatière.
URL:https://les-delices-de-malfrait.fr/event/marche-de-la-mulatiere-2/2026-01-13
LOCATION:Marché de La Mulatière\, Place de la Mairie\, La Mulatière\, 69350
CATEGORIES:Marché
ATTACH;FMTTYPE=image/jpeg:https://les-delices-de-malfrait.fr/wp-content/uploads/2022/09/marche-les-Delices-de-Malfrait-2.jpg
END:VEVENT
BEGIN:VEVENT
DTSTART;TZID=Europe/Paris:20260114T070000
DTEND;TZID=Europe/Paris:20260114T120000
DTSTAMP:20260421T095419
CREATED:20220928T155628Z
LAST-MODIFIED:20220928T155649Z
UID:10001475-1768374000-1768392000@les-delices-de-malfrait.fr
SUMMARY:Retournac (mercredi)
DESCRIPTION:Venez nous rencontrer\, tous les mercredis matins et dès 7h du matin\, sur le marché de Retournac.
URL:https://les-delices-de-malfrait.fr/event/marche-de-retournac-2/2026-01-14
LOCATION:Marché de Retournac\, Place de l'Eglise\, Retournac\, 43130
ATTACH;FMTTYPE=image/jpeg:https://les-delices-de-malfrait.fr/wp-content/uploads/2022/09/marche-les-Delices-de-Malfrait-7.jpg
END:VEVENT
BEGIN:VEVENT
DTSTART;TZID=Europe/Paris:20260116T070000
DTEND;TZID=Europe/Paris:20260116T120000
DTSTAMP:20260421T095419
CREATED:20220914T101424Z
LAST-MODIFIED:20220915T164311Z
UID:10001218-1768546800-1768564800@les-delices-de-malfrait.fr
SUMMARY:La Mulatière (vendredi)
DESCRIPTION:Venez nous rencontrer\, tous les mercredis matins et vendredis matins\, sur le marché de La Mulatière.
URL:https://les-delices-de-malfrait.fr/event/la-mulatiere-vendredi/2026-01-16
LOCATION:Marché de La Mulatière\, Place de la Mairie\, La Mulatière\, 69350
CATEGORIES:Marché
ATTACH;FMTTYPE=image/jpeg:https://les-delices-de-malfrait.fr/wp-content/uploads/2022/09/marche-les-Delices-de-Malfrait-2.jpg
END:VEVENT
BEGIN:VEVENT
DTSTART;TZID=Europe/Paris:20260116T150000
DTEND;TZID=Europe/Paris:20260116T190000
DTSTAMP:20260421T095419
CREATED:20220913T170958Z
LAST-MODIFIED:20220915T164216Z
UID:10000958-1768575600-1768590000@les-delices-de-malfrait.fr
SUMMARY:La Gravière (vendredi)
DESCRIPTION:Venez nous rencontrer\, tous les vendredis après-midi\, sur la marché de La Gravière à Sainte-Foy-les-Lyon.
URL:https://les-delices-de-malfrait.fr/event/marche-de-la-graviere/2026-01-16
LOCATION:Marché de La Gravière\, Place de La Gravière\, Sainte-Foy-les-Lyon\, 69202
ATTACH;FMTTYPE=image/jpeg:https://les-delices-de-malfrait.fr/wp-content/uploads/2022/09/marche-les-Delices-de-Malfrait-6.jpg
END:VEVENT
BEGIN:VEVENT
DTSTART;TZID=Europe/Paris:20260117T070000
DTEND;TZID=Europe/Paris:20260117T120000
DTSTAMP:20260421T095419
CREATED:20220913T170809Z
LAST-MODIFIED:20220915T164147Z
UID:10000698-1768633200-1768651200@les-delices-de-malfrait.fr
SUMMARY:Le Puy-en-Velay (samedi)
DESCRIPTION:Venez nous rencontrer\, tous les samedis matins et dès 7h du matin\, sur le marché du Puy-en-Velay.
URL:https://les-delices-de-malfrait.fr/event/le-puy-en-velay/2026-01-17
LOCATION:Marché du Puy-en-Velay\, Rue Grenouillit\, Le Puy-en-Velay\, 43000
ATTACH;FMTTYPE=image/jpeg:https://les-delices-de-malfrait.fr/wp-content/uploads/2022/09/marche-les-Delices-de-Malfrait-5.jpg
END:VEVENT
BEGIN:VEVENT
DTSTART;TZID=Europe/Paris:20260120T070000
DTEND;TZID=Europe/Paris:20260120T120000
DTSTAMP:20260421T095419
CREATED:20220928T155748Z
LAST-MODIFIED:20220928T155810Z
UID:10001734-1768892400-1768910400@les-delices-de-malfrait.fr
SUMMARY:La Mulatière (mardi)
DESCRIPTION:Rencontrons-nous\, tous les mercredis et les vendredis matins\, sur le marché de La Mulatière.
URL:https://les-delices-de-malfrait.fr/event/marche-de-la-mulatiere-2/2026-01-20
LOCATION:Marché de La Mulatière\, Place de la Mairie\, La Mulatière\, 69350
CATEGORIES:Marché
ATTACH;FMTTYPE=image/jpeg:https://les-delices-de-malfrait.fr/wp-content/uploads/2022/09/marche-les-Delices-de-Malfrait-2.jpg
END:VEVENT
BEGIN:VEVENT
DTSTART;TZID=Europe/Paris:20260121T070000
DTEND;TZID=Europe/Paris:20260121T120000
DTSTAMP:20260421T095419
CREATED:20220928T155628Z
LAST-MODIFIED:20220928T155649Z
UID:10001476-1768978800-1768996800@les-delices-de-malfrait.fr
SUMMARY:Retournac (mercredi)
DESCRIPTION:Venez nous rencontrer\, tous les mercredis matins et dès 7h du matin\, sur le marché de Retournac.
URL:https://les-delices-de-malfrait.fr/event/marche-de-retournac-2/2026-01-21
LOCATION:Marché de Retournac\, Place de l'Eglise\, Retournac\, 43130
ATTACH;FMTTYPE=image/jpeg:https://les-delices-de-malfrait.fr/wp-content/uploads/2022/09/marche-les-Delices-de-Malfrait-7.jpg
END:VEVENT
BEGIN:VEVENT
DTSTART;TZID=Europe/Paris:20260123T070000
DTEND;TZID=Europe/Paris:20260123T120000
DTSTAMP:20260421T095419
CREATED:20220914T101424Z
LAST-MODIFIED:20220915T164311Z
UID:10001219-1769151600-1769169600@les-delices-de-malfrait.fr
SUMMARY:La Mulatière (vendredi)
DESCRIPTION:Venez nous rencontrer\, tous les mercredis matins et vendredis matins\, sur le marché de La Mulatière.
URL:https://les-delices-de-malfrait.fr/event/la-mulatiere-vendredi/2026-01-23
LOCATION:Marché de La Mulatière\, Place de la Mairie\, La Mulatière\, 69350
CATEGORIES:Marché
ATTACH;FMTTYPE=image/jpeg:https://les-delices-de-malfrait.fr/wp-content/uploads/2022/09/marche-les-Delices-de-Malfrait-2.jpg
END:VEVENT
BEGIN:VEVENT
DTSTART;TZID=Europe/Paris:20260123T150000
DTEND;TZID=Europe/Paris:20260123T190000
DTSTAMP:20260421T095419
CREATED:20220913T170958Z
LAST-MODIFIED:20220915T164216Z
UID:10000959-1769180400-1769194800@les-delices-de-malfrait.fr
SUMMARY:La Gravière (vendredi)
DESCRIPTION:Venez nous rencontrer\, tous les vendredis après-midi\, sur la marché de La Gravière à Sainte-Foy-les-Lyon.
URL:https://les-delices-de-malfrait.fr/event/marche-de-la-graviere/2026-01-23
LOCATION:Marché de La Gravière\, Place de La Gravière\, Sainte-Foy-les-Lyon\, 69202
ATTACH;FMTTYPE=image/jpeg:https://les-delices-de-malfrait.fr/wp-content/uploads/2022/09/marche-les-Delices-de-Malfrait-6.jpg
END:VEVENT
BEGIN:VEVENT
DTSTART;TZID=Europe/Paris:20260124T070000
DTEND;TZID=Europe/Paris:20260124T120000
DTSTAMP:20260421T095419
CREATED:20220913T170809Z
LAST-MODIFIED:20220915T164147Z
UID:10000699-1769238000-1769256000@les-delices-de-malfrait.fr
SUMMARY:Le Puy-en-Velay (samedi)
DESCRIPTION:Venez nous rencontrer\, tous les samedis matins et dès 7h du matin\, sur le marché du Puy-en-Velay.
URL:https://les-delices-de-malfrait.fr/event/le-puy-en-velay/2026-01-24
LOCATION:Marché du Puy-en-Velay\, Rue Grenouillit\, Le Puy-en-Velay\, 43000
ATTACH;FMTTYPE=image/jpeg:https://les-delices-de-malfrait.fr/wp-content/uploads/2022/09/marche-les-Delices-de-Malfrait-5.jpg
END:VEVENT
BEGIN:VEVENT
DTSTART;TZID=Europe/Paris:20260127T070000
DTEND;TZID=Europe/Paris:20260127T120000
DTSTAMP:20260421T095419
CREATED:20220928T155748Z
LAST-MODIFIED:20220928T155810Z
UID:10001735-1769497200-1769515200@les-delices-de-malfrait.fr
SUMMARY:La Mulatière (mardi)
DESCRIPTION:Rencontrons-nous\, tous les mercredis et les vendredis matins\, sur le marché de La Mulatière.
URL:https://les-delices-de-malfrait.fr/event/marche-de-la-mulatiere-2/2026-01-27
LOCATION:Marché de La Mulatière\, Place de la Mairie\, La Mulatière\, 69350
CATEGORIES:Marché
ATTACH;FMTTYPE=image/jpeg:https://les-delices-de-malfrait.fr/wp-content/uploads/2022/09/marche-les-Delices-de-Malfrait-2.jpg
END:VEVENT
BEGIN:VEVENT
DTSTART;TZID=Europe/Paris:20260128T070000
DTEND;TZID=Europe/Paris:20260128T120000
DTSTAMP:20260421T095419
CREATED:20220928T155628Z
LAST-MODIFIED:20220928T155649Z
UID:10001477-1769583600-1769601600@les-delices-de-malfrait.fr
SUMMARY:Retournac (mercredi)
DESCRIPTION:Venez nous rencontrer\, tous les mercredis matins et dès 7h du matin\, sur le marché de Retournac.
URL:https://les-delices-de-malfrait.fr/event/marche-de-retournac-2/2026-01-28
LOCATION:Marché de Retournac\, Place de l'Eglise\, Retournac\, 43130
ATTACH;FMTTYPE=image/jpeg:https://les-delices-de-malfrait.fr/wp-content/uploads/2022/09/marche-les-Delices-de-Malfrait-7.jpg
END:VEVENT
BEGIN:VEVENT
DTSTART;TZID=Europe/Paris:20260130T070000
DTEND;TZID=Europe/Paris:20260130T120000
DTSTAMP:20260421T095419
CREATED:20220914T101424Z
LAST-MODIFIED:20220915T164311Z
UID:10001220-1769756400-1769774400@les-delices-de-malfrait.fr
SUMMARY:La Mulatière (vendredi)
DESCRIPTION:Venez nous rencontrer\, tous les mercredis matins et vendredis matins\, sur le marché de La Mulatière.
URL:https://les-delices-de-malfrait.fr/event/la-mulatiere-vendredi/2026-01-30
LOCATION:Marché de La Mulatière\, Place de la Mairie\, La Mulatière\, 69350
CATEGORIES:Marché
ATTACH;FMTTYPE=image/jpeg:https://les-delices-de-malfrait.fr/wp-content/uploads/2022/09/marche-les-Delices-de-Malfrait-2.jpg
END:VEVENT
BEGIN:VEVENT
DTSTART;TZID=Europe/Paris:20260130T150000
DTEND;TZID=Europe/Paris:20260130T190000
DTSTAMP:20260421T095419
CREATED:20220913T170958Z
LAST-MODIFIED:20220915T164216Z
UID:10000960-1769785200-1769799600@les-delices-de-malfrait.fr
SUMMARY:La Gravière (vendredi)
DESCRIPTION:Venez nous rencontrer\, tous les vendredis après-midi\, sur la marché de La Gravière à Sainte-Foy-les-Lyon.
URL:https://les-delices-de-malfrait.fr/event/marche-de-la-graviere/2026-01-30
LOCATION:Marché de La Gravière\, Place de La Gravière\, Sainte-Foy-les-Lyon\, 69202
ATTACH;FMTTYPE=image/jpeg:https://les-delices-de-malfrait.fr/wp-content/uploads/2022/09/marche-les-Delices-de-Malfrait-6.jpg
END:VEVENT
BEGIN:VEVENT
DTSTART;TZID=Europe/Paris:20260131T070000
DTEND;TZID=Europe/Paris:20260131T120000
DTSTAMP:20260421T095419
CREATED:20220913T170809Z
LAST-MODIFIED:20220915T164147Z
UID:10000700-1769842800-1769860800@les-delices-de-malfrait.fr
SUMMARY:Le Puy-en-Velay (samedi)
DESCRIPTION:Venez nous rencontrer\, tous les samedis matins et dès 7h du matin\, sur le marché du Puy-en-Velay.
URL:https://les-delices-de-malfrait.fr/event/le-puy-en-velay/2026-01-31
LOCATION:Marché du Puy-en-Velay\, Rue Grenouillit\, Le Puy-en-Velay\, 43000
ATTACH;FMTTYPE=image/jpeg:https://les-delices-de-malfrait.fr/wp-content/uploads/2022/09/marche-les-Delices-de-Malfrait-5.jpg
END:VEVENT
END:VCALENDAR