BEGIN:VCALENDAR
VERSION:2.0
PRODID:-//Les Delices de Malfrait - ECPv6.14.0//NONSGML v1.0//EN
CALSCALE:GREGORIAN
METHOD:PUBLISH
X-WR-CALNAME:Les Delices de Malfrait
X-ORIGINAL-URL:https://les-delices-de-malfrait.fr
X-WR-CALDESC:Évènements pour Les Delices de Malfrait
REFRESH-INTERVAL;VALUE=DURATION:PT1H
X-Robots-Tag:noindex
X-PUBLISHED-TTL:PT1H
BEGIN:VTIMEZONE
TZID:Europe/Paris
BEGIN:DAYLIGHT
TZOFFSETFROM:+0100
TZOFFSETTO:+0200
TZNAME:CEST
DTSTART:20260329T010000
END:DAYLIGHT
BEGIN:STANDARD
TZOFFSETFROM:+0200
TZOFFSETTO:+0100
TZNAME:CET
DTSTART:20261025T010000
END:STANDARD
END:VTIMEZONE
BEGIN:VEVENT
DTSTART;TZID=Europe/Paris:20260520T070000
DTEND;TZID=Europe/Paris:20260520T120000
DTSTAMP:20260419T152230
CREATED:20220928T155628Z
LAST-MODIFIED:20220928T155649Z
UID:10001493-1779260400-1779278400@les-delices-de-malfrait.fr
SUMMARY:Retournac (mercredi)
DESCRIPTION:Venez nous rencontrer\, tous les mercredis matins et dès 7h du matin\, sur le marché de Retournac.
URL:https://les-delices-de-malfrait.fr/event/marche-de-retournac-2/2026-05-20
LOCATION:Marché de Retournac\, Place de l'Eglise\, Retournac\, 43130
ATTACH;FMTTYPE=image/jpeg:https://les-delices-de-malfrait.fr/wp-content/uploads/2022/09/marche-les-Delices-de-Malfrait-7.jpg
END:VEVENT
END:VCALENDAR